Package: oposSOM Version: 2.22.0 Command: /Library/Frameworks/R.framework/Resources/bin/R CMD build --keep-empty-dirs --no-resave-data oposSOM StartedAt: 2024-10-17 05:55:08 -0400 (Thu, 17 Oct 2024) EndedAt: 2024-10-17 05:56:11 -0400 (Thu, 17 Oct 2024) EllapsedTime: 62.6 seconds RetCode: 0 Status: OK PackageFile: oposSOM_2.22.0.tar.gz PackageFileSize: 13.15 MiB