Package: oposSOM Version: 2.22.0 Maintainer: Henry Loeffler-Wirth MaintainerEmail: wirth at izbi.uni-leipzig.de git_url: https://git.bioconductor.org/packages/oposSOM git_branch: RELEASE_3_19 git_last_commit: 5cc45bb git_last_commit_date: 2024-04-30 10:37:16 -0400 (Tue, 30 Apr 2024)