Package: openPrimeRui Version: 1.26.0 Command: rm -rf openPrimeRui.buildbin-libdir && mkdir openPrimeRui.buildbin-libdir && E:\biocbuild\bbs-3.19-bioc\R\bin\R.exe CMD INSTALL --build --library=openPrimeRui.buildbin-libdir openPrimeRui_1.26.0.tar.gz StartedAt: 2024-10-17 08:17:51 -0400 (Thu, 17 Oct 2024) EndedAt: 2024-10-17 08:18:32 -0400 (Thu, 17 Oct 2024) EllapsedTime: 40.6 seconds RetCode: 0 Status: OK PackageFile: openPrimeRui_1.26.0.zip PackageFileSize: 2.419 MiB