Package: openPrimeR Version: 1.26.0 Command: E:\biocbuild\bbs-3.19-bioc\R\bin\R.exe CMD INSTALL openPrimeR StartedAt: 2024-10-16 17:16:18 -0400 (Wed, 16 Oct 2024) EndedAt: 2024-10-16 17:18:11 -0400 (Wed, 16 Oct 2024) EllapsedTime: 112.9 seconds RetCode: 0 Status: OK