Package: openPrimeR Version: 1.26.0 Command: /home/biocbuild/bbs-3.19-bioc/R/bin/R CMD build --keep-empty-dirs --no-resave-data openPrimeR StartedAt: 2024-10-16 19:54:43 -0400 (Wed, 16 Oct 2024) EndedAt: 2024-10-16 19:56:10 -0400 (Wed, 16 Oct 2024) EllapsedTime: 87.2 seconds RetCode: 0 Status: OK PackageFile: openPrimeR_1.26.0.tar.gz PackageFileSize: 2.018 MiB