Package: openPrimeR Version: 1.26.0 Command: /Library/Frameworks/R.framework/Resources/bin/R CMD INSTALL openPrimeR StartedAt: 2024-10-16 16:42:47 -0400 (Wed, 16 Oct 2024) EndedAt: 2024-10-16 16:43:59 -0400 (Wed, 16 Oct 2024) EllapsedTime: 71.6 seconds RetCode: 0 Status: OK