Package: openPrimeR Version: 1.26.0 Command: /Library/Frameworks/R.framework/Resources/bin/R CMD build --keep-empty-dirs --no-resave-data openPrimeR StartedAt: 2024-10-16 21:45:25 -0400 (Wed, 16 Oct 2024) EndedAt: 2024-10-16 21:48:52 -0400 (Wed, 16 Oct 2024) EllapsedTime: 206.8 seconds RetCode: 0 Status: OK PackageFile: openPrimeR_1.26.0.tar.gz PackageFileSize: 2.152 MiB