Package: openPrimeR Version: 1.26.0 Command: rm -rf openPrimeR.buildbin-libdir && mkdir openPrimeR.buildbin-libdir && /Users/biocbuild/BBS/utils/build-universal.sh openPrimeR_1.26.0.tar.gz /Library/Frameworks/R.framework/Resources/bin/R openPrimeR.buildbin-libdir StartedAt: 2024-10-17 16:46:44 -0400 (Thu, 17 Oct 2024) EndedAt: 2024-10-17 16:48:09 -0400 (Thu, 17 Oct 2024) EllapsedTime: 85.0 seconds RetCode: 0 Status: OK PackageFile: openPrimeR_1.26.0.tgz PackageFileSize: 3.069 MiB