Package: openPrimeR Version: 1.26.0 Command: /home/biocbuild/R/R-beta-2024-04-15_r86425/bin/R CMD check --install=check:openPrimeR.install-out.txt --library=/home/biocbuild/R/R-beta-2024-04-15_r86425/site-library --no-vignettes --timings openPrimeR_1.26.0.tar.gz StartedAt: 2024-05-09 10:14:46 -0000 (Thu, 09 May 2024) EndedAt: 2024-05-09 10:19:42 -0000 (Thu, 09 May 2024) EllapsedTime: 295.6 seconds RetCode: 0 Status: OK CheckDir: openPrimeR.Rcheck Warnings: 0