Package: openPrimeR Version: 1.26.0 Command: /home/biocbuild/R/R-beta-2024-04-15_r86425/bin/R CMD build --keep-empty-dirs --no-resave-data openPrimeR StartedAt: 2024-05-09 02:15:16 -0000 (Thu, 09 May 2024) EndedAt: 2024-05-09 02:16:59 -0000 (Thu, 09 May 2024) EllapsedTime: 103.1 seconds RetCode: 0 Status: OK PackageFile: openPrimeR_1.26.0.tar.gz PackageFileSize: 1.829 MiB