Package: openPrimeR Version: 1.26.0 Command: /Library/Frameworks/R.framework/Resources/bin/R CMD check --install=check:openPrimeR.install-out.txt --library=/Library/Frameworks/R.framework/Resources/library --no-vignettes --timings openPrimeR_1.26.0.tar.gz StartedAt: 2024-10-18 06:34:05 -0400 (Fri, 18 Oct 2024) EndedAt: 2024-10-18 06:40:03 -0400 (Fri, 18 Oct 2024) EllapsedTime: 357.6 seconds RetCode: 0 Status: OK CheckDir: openPrimeR.Rcheck Warnings: 0