Package: openCyto Version: 2.16.1 Command: /Library/Frameworks/R.framework/Resources/bin/R CMD check --install=check:openCyto.install-out.txt --library=/Library/Frameworks/R.framework/Resources/library --no-vignettes --timings openCyto_2.16.1.tar.gz StartedAt: 2024-10-18 06:34:02 -0400 (Fri, 18 Oct 2024) EndedAt: 2024-10-18 06:36:56 -0400 (Fri, 18 Oct 2024) EllapsedTime: 173.9 seconds RetCode: 0 Status: WARNINGS CheckDir: openCyto.Rcheck Warnings: 4