Package: ontoProc Version: 1.26.4 Command: chmod a+r ontoProc -R && E:\biocbuild\bbs-3.19-bioc\R\bin\R.exe CMD build --keep-empty-dirs --no-resave-data ontoProc StartedAt: 2024-10-16 20:48:25 -0400 (Wed, 16 Oct 2024) EndedAt: 2024-10-16 20:53:08 -0400 (Wed, 16 Oct 2024) EllapsedTime: 282.8 seconds RetCode: 0 Status: OK PackageFile: ontoProc_1.26.4.tar.gz PackageFileSize: 12.67 MiB