Package: ontoProc Version: 1.26.4 Command: rm -rf ontoProc.buildbin-libdir && mkdir ontoProc.buildbin-libdir && E:\biocbuild\bbs-3.19-bioc\R\bin\R.exe CMD INSTALL --build --library=ontoProc.buildbin-libdir ontoProc_1.26.4.tar.gz StartedAt: 2024-10-17 08:17:39 -0400 (Thu, 17 Oct 2024) EndedAt: 2024-10-17 08:18:44 -0400 (Thu, 17 Oct 2024) EllapsedTime: 65.0 seconds RetCode: 0 Status: OK PackageFile: ontoProc_1.26.4.zip PackageFileSize: 10.58 MiB