Package: ontoProc Version: 1.26.4 Command: /home/biocbuild/bbs-3.19-bioc/R/bin/R CMD build --keep-empty-dirs --no-resave-data ontoProc StartedAt: 2024-10-16 19:54:32 -0400 (Wed, 16 Oct 2024) EndedAt: 2024-10-16 20:01:32 -0400 (Wed, 16 Oct 2024) EllapsedTime: 420.0 seconds RetCode: 0 Status: OK PackageFile: ontoProc_1.26.4.tar.gz PackageFileSize: 12.77 MiB