Package: ontoProc Version: 1.26.4 Command: /Library/Frameworks/R.framework/Resources/bin/R CMD build --keep-empty-dirs --no-resave-data ontoProc StartedAt: 2024-10-16 21:45:09 -0400 (Wed, 16 Oct 2024) EndedAt: 2024-10-16 21:56:38 -0400 (Wed, 16 Oct 2024) EllapsedTime: 689.4 seconds RetCode: 0 Status: OK PackageFile: ontoProc_1.26.4.tar.gz PackageFileSize: 12.84 MiB