Package: ontoProc Version: 1.26.4 Command: rm -rf ontoProc.buildbin-libdir && mkdir ontoProc.buildbin-libdir && /Users/biocbuild/BBS/utils/build-universal.sh ontoProc_1.26.4.tar.gz /Library/Frameworks/R.framework/Resources/bin/R ontoProc.buildbin-libdir StartedAt: 2024-10-17 16:46:37 -0400 (Thu, 17 Oct 2024) EndedAt: 2024-10-17 16:48:07 -0400 (Thu, 17 Oct 2024) EllapsedTime: 89.2 seconds RetCode: 0 Status: OK PackageFile: ontoProc_1.26.4.tgz PackageFileSize: 10.74 MiB