Package: ontoProc Version: 1.26.4 Command: /Library/Frameworks/R.framework/Resources/bin/R CMD INSTALL ontoProc StartedAt: 2024-10-16 17:32:39 -0400 (Wed, 16 Oct 2024) EndedAt: 2024-10-16 17:33:19 -0400 (Wed, 16 Oct 2024) EllapsedTime: 40.2 seconds RetCode: 0 Status: OK