Package: ontoProc Version: 1.26.4 Maintainer: Vincent Carey MaintainerEmail: stvjc at channing.harvard.edu git_url: https://git.bioconductor.org/packages/ontoProc git_branch: RELEASE_3_19 git_last_commit: 7539d7b git_last_commit_date: 2024-08-04 06:42:00 -0400 (Sun, 04 Aug 2024)