Package: onlineFDR Version: 2.12.0 Command: /Library/Frameworks/R.framework/Resources/bin/R CMD build --keep-empty-dirs --no-resave-data onlineFDR StartedAt: 2024-10-17 05:52:54 -0400 (Thu, 17 Oct 2024) EndedAt: 2024-10-17 05:53:43 -0400 (Thu, 17 Oct 2024) EllapsedTime: 49.2 seconds RetCode: 1 Status: ERROR PackageFile: None PackageFileSize: NA