Package: oneSENSE Version: 1.26.0 Command: E:\biocbuild\bbs-3.19-bioc\R\bin\R.exe CMD check --no-multiarch --install=check:oneSENSE.install-out.txt --library=E:\biocbuild\bbs-3.19-bioc\R\library --no-vignettes --timings oneSENSE_1.26.0.tar.gz StartedAt: 2024-10-17 04:07:56 -0400 (Thu, 17 Oct 2024) EndedAt: 2024-10-17 04:09:36 -0400 (Thu, 17 Oct 2024) EllapsedTime: 99.7 seconds RetCode: 1 Status: ERROR CheckDir: oneSENSE.Rcheck Warnings: NA