Package: oneSENSE Version: 1.26.0 Command: chmod a+r oneSENSE -R && E:\biocbuild\bbs-3.19-bioc\R\bin\R.exe CMD build --keep-empty-dirs --no-resave-data oneSENSE StartedAt: 2024-10-16 20:48:04 -0400 (Wed, 16 Oct 2024) EndedAt: 2024-10-16 20:48:24 -0400 (Wed, 16 Oct 2024) EllapsedTime: 20.1 seconds RetCode: 0 Status: OK PackageFile: oneSENSE_1.26.0.tar.gz PackageFileSize: 2.73 MiB