Package: oneSENSE Version: 1.26.0 Command: rm -rf oneSENSE.buildbin-libdir && mkdir oneSENSE.buildbin-libdir && E:\biocbuild\bbs-3.19-bioc\R\bin\R.exe CMD INSTALL --build --library=oneSENSE.buildbin-libdir oneSENSE_1.26.0.tar.gz StartedAt: 2024-10-17 08:17:36 -0400 (Thu, 17 Oct 2024) EndedAt: 2024-10-17 08:17:53 -0400 (Thu, 17 Oct 2024) EllapsedTime: 17.7 seconds RetCode: 0 Status: OK PackageFile: oneSENSE_1.26.0.zip PackageFileSize: 1.66 MiB