Package: oneSENSE Version: 1.26.0 Command: F:\biocbuild\bbs-3.19-bioc\R\bin\R.exe CMD INSTALL oneSENSE StartedAt: 2024-06-26 16:20:16 -0400 (Wed, 26 Jun 2024) EndedAt: 2024-06-26 16:20:30 -0400 (Wed, 26 Jun 2024) EllapsedTime: 14.7 seconds RetCode: 0 Status: OK