Package: oneSENSE Version: 1.26.0 Command: /home/biocbuild/bbs-3.19-bioc/R/bin/R CMD INSTALL oneSENSE StartedAt: 2024-10-16 16:20:21 -0400 (Wed, 16 Oct 2024) EndedAt: 2024-10-16 16:20:30 -0400 (Wed, 16 Oct 2024) EllapsedTime: 9.1 seconds RetCode: 0 Status: OK