Package: oneSENSE Version: 1.26.0 Command: /Library/Frameworks/R.framework/Resources/bin/R CMD build --keep-empty-dirs --no-resave-data oneSENSE StartedAt: 2024-10-16 21:44:30 -0400 (Wed, 16 Oct 2024) EndedAt: 2024-10-16 21:45:07 -0400 (Wed, 16 Oct 2024) EllapsedTime: 37.3 seconds RetCode: 0 Status: OK PackageFile: oneSENSE_1.26.0.tar.gz PackageFileSize: 2.73 MiB