Package: oneSENSE Version: 1.26.0 Command: /Library/Frameworks/R.framework/Resources/bin/R CMD build --keep-empty-dirs --no-resave-data oneSENSE StartedAt: 2024-06-10 01:57:41 -0400 (Mon, 10 Jun 2024) EndedAt: 2024-06-10 01:58:03 -0400 (Mon, 10 Jun 2024) EllapsedTime: 22.0 seconds RetCode: 0 Status: OK PackageFile: oneSENSE_1.26.0.tar.gz PackageFileSize: 2.73 MiB