Package: oneSENSE Version: 1.26.0 Command: /Library/Frameworks/R.framework/Resources/bin/R CMD check --install=check:oneSENSE.install-out.txt --library=/Library/Frameworks/R.framework/Resources/library --no-vignettes --timings oneSENSE_1.26.0.tar.gz StartedAt: 2024-10-18 06:32:34 -0400 (Fri, 18 Oct 2024) EndedAt: 2024-10-18 06:34:02 -0400 (Fri, 18 Oct 2024) EllapsedTime: 88.4 seconds RetCode: 1 Status: ERROR CheckDir: oneSENSE.Rcheck Warnings: NA