Package: oneSENSE Version: 1.26.0 Command: /Library/Frameworks/R.framework/Resources/bin/R CMD build --keep-empty-dirs --no-resave-data oneSENSE StartedAt: 2024-10-17 05:52:45 -0400 (Thu, 17 Oct 2024) EndedAt: 2024-10-17 05:53:05 -0400 (Thu, 17 Oct 2024) EllapsedTime: 20.1 seconds RetCode: 0 Status: OK PackageFile: oneSENSE_1.26.0.tar.gz PackageFileSize: 2.73 MiB