Package: oncoscanR Version: 1.6.0 Command: chmod a+r oncoscanR -R && F:\biocbuild\bbs-3.19-bioc\R\bin\R.exe CMD build --keep-empty-dirs --no-resave-data oncoscanR StartedAt: 2024-06-26 20:38:28 -0400 (Wed, 26 Jun 2024) EndedAt: 2024-06-26 20:40:50 -0400 (Wed, 26 Jun 2024) EllapsedTime: 142.1 seconds RetCode: 0 Status: OK PackageFile: oncoscanR_1.6.0.tar.gz PackageFileSize: 989.9 KiB