Package: oncoscanR Version: 1.6.0 Command: rm -rf oncoscanR.buildbin-libdir && mkdir oncoscanR.buildbin-libdir && F:\biocbuild\bbs-3.19-bioc\R\bin\R.exe CMD INSTALL --build --library=oncoscanR.buildbin-libdir oncoscanR_1.6.0.tar.gz StartedAt: 2024-06-27 08:37:24 -0400 (Thu, 27 Jun 2024) EndedAt: 2024-06-27 08:37:45 -0400 (Thu, 27 Jun 2024) EllapsedTime: 20.2 seconds RetCode: 0 Status: OK PackageFile: oncoscanR_1.6.0.zip PackageFileSize: 1.042 MiB