Package: oncomix Version: 1.26.0 Command: F:\biocbuild\bbs-3.19-bioc\R\bin\R.exe CMD INSTALL oncomix StartedAt: 2024-06-26 15:54:04 -0400 (Wed, 26 Jun 2024) EndedAt: 2024-06-26 15:54:40 -0400 (Wed, 26 Jun 2024) EllapsedTime: 35.8 seconds RetCode: 0 Status: OK