Package: oncomix Version: 1.26.0 Command: chmod a+r oncomix -R && F:\biocbuild\bbs-3.19-bioc\R\bin\R.exe CMD build --keep-empty-dirs --no-resave-data oncomix StartedAt: 2024-06-26 20:37:51 -0400 (Wed, 26 Jun 2024) EndedAt: 2024-06-26 20:39:50 -0400 (Wed, 26 Jun 2024) EllapsedTime: 118.3 seconds RetCode: 0 Status: OK PackageFile: oncomix_1.26.0.tar.gz PackageFileSize: 1.688 MiB