Package: ompBAM Version: 1.8.0 Command: E:\biocbuild\bbs-3.19-bioc\R\bin\R.exe CMD INSTALL ompBAM StartedAt: 2024-10-16 17:15:03 -0400 (Wed, 16 Oct 2024) EndedAt: 2024-10-16 17:15:12 -0400 (Wed, 16 Oct 2024) EllapsedTime: 8.9 seconds RetCode: 0 Status: OK