Package: ompBAM Version: 1.8.0 Command: chmod a+r ompBAM -R && E:\biocbuild\bbs-3.19-bioc\R\bin\R.exe CMD build --keep-empty-dirs --no-resave-data ompBAM StartedAt: 2024-10-16 20:47:02 -0400 (Wed, 16 Oct 2024) EndedAt: 2024-10-16 20:47:41 -0400 (Wed, 16 Oct 2024) EllapsedTime: 39.5 seconds RetCode: 0 Status: OK PackageFile: ompBAM_1.8.0.tar.gz PackageFileSize: 3.142 MiB