Package: ompBAM Version: 1.8.0 Command: chmod a+r ompBAM -R && F:\biocbuild\bbs-3.19-bioc\R\bin\R.exe CMD build --keep-empty-dirs --no-resave-data ompBAM StartedAt: 2024-06-26 20:37:36 -0400 (Wed, 26 Jun 2024) EndedAt: 2024-06-26 20:38:27 -0400 (Wed, 26 Jun 2024) EllapsedTime: 50.7 seconds RetCode: 0 Status: OK PackageFile: ompBAM_1.8.0.tar.gz PackageFileSize: 3.142 MiB