Package: ompBAM Version: 1.8.0 Command: /home/biocbuild/bbs-3.19-bioc/R/bin/R CMD INSTALL ompBAM StartedAt: 2024-10-16 16:41:38 -0400 (Wed, 16 Oct 2024) EndedAt: 2024-10-16 16:41:40 -0400 (Wed, 16 Oct 2024) EllapsedTime: 2.2 seconds RetCode: 0 Status: OK