Package: ompBAM Version: 1.8.0 Command: /Library/Frameworks/R.framework/Resources/bin/R CMD build --keep-empty-dirs --no-resave-data ompBAM StartedAt: 2024-06-10 01:56:06 -0400 (Mon, 10 Jun 2024) EndedAt: 2024-06-10 01:56:46 -0400 (Mon, 10 Jun 2024) EllapsedTime: 40.4 seconds RetCode: 0 Status: OK PackageFile: ompBAM_1.8.0.tar.gz PackageFileSize: 3.143 MiB