Package: omicsViewer Version: 1.8.0 Command: chmod a+r omicsViewer -R && E:\biocbuild\bbs-3.19-bioc\R\bin\R.exe CMD build --keep-empty-dirs --no-resave-data omicsViewer StartedAt: 2024-10-16 20:46:52 -0400 (Wed, 16 Oct 2024) EndedAt: 2024-10-16 20:48:03 -0400 (Wed, 16 Oct 2024) EllapsedTime: 70.7 seconds RetCode: 0 Status: OK PackageFile: omicsViewer_1.8.0.tar.gz PackageFileSize: 4.325 MiB