Package: omicsViewer Version: 1.8.0 Command: F:\biocbuild\bbs-3.19-bioc\R\bin\R.exe CMD INSTALL omicsViewer StartedAt: 2024-06-26 16:52:37 -0400 (Wed, 26 Jun 2024) EndedAt: 2024-06-26 16:53:25 -0400 (Wed, 26 Jun 2024) EllapsedTime: 48.1 seconds RetCode: 0 Status: OK