Package: omicsViewer Version: 1.8.0 Command: chmod a+r omicsViewer -R && F:\biocbuild\bbs-3.19-bioc\R\bin\R.exe CMD build --keep-empty-dirs --no-resave-data omicsViewer StartedAt: 2024-06-26 20:36:30 -0400 (Wed, 26 Jun 2024) EndedAt: 2024-06-26 20:37:31 -0400 (Wed, 26 Jun 2024) EllapsedTime: 61.0 seconds RetCode: 0 Status: OK PackageFile: omicsViewer_1.8.0.tar.gz PackageFileSize: 4.325 MiB