Package: omicsViewer Version: 1.8.0 Command: rm -rf omicsViewer.buildbin-libdir && mkdir omicsViewer.buildbin-libdir && F:\biocbuild\bbs-3.19-bioc\R\bin\R.exe CMD INSTALL --build --library=omicsViewer.buildbin-libdir omicsViewer_1.8.0.tar.gz StartedAt: 2024-06-27 08:37:14 -0400 (Thu, 27 Jun 2024) EndedAt: 2024-06-27 08:38:07 -0400 (Thu, 27 Jun 2024) EllapsedTime: 52.7 seconds RetCode: 0 Status: OK PackageFile: omicsViewer_1.8.0.zip PackageFileSize: 4.36 MiB