Package: omicsViewer Version: 1.8.0 Command: /home/biocbuild/bbs-3.19-bioc/R/bin/R CMD INSTALL omicsViewer StartedAt: 2024-10-16 16:46:26 -0400 (Wed, 16 Oct 2024) EndedAt: 2024-10-16 16:46:56 -0400 (Wed, 16 Oct 2024) EllapsedTime: 30.6 seconds RetCode: 0 Status: OK