Package: omicsViewer Version: 1.8.0 Command: /home/biocbuild/bbs-3.19-bioc/R/bin/R CMD build --keep-empty-dirs --no-resave-data omicsViewer StartedAt: 2024-10-16 19:52:25 -0400 (Wed, 16 Oct 2024) EndedAt: 2024-10-16 19:53:48 -0400 (Wed, 16 Oct 2024) EllapsedTime: 82.2 seconds RetCode: 0 Status: OK PackageFile: omicsViewer_1.8.0.tar.gz PackageFileSize: 4.324 MiB