Package: omicsViewer Version: 1.8.0 Command: rm -rf omicsViewer.buildbin-libdir && mkdir omicsViewer.buildbin-libdir && /Users/biocbuild/BBS/utils/build-universal.sh omicsViewer_1.8.0.tar.gz /Library/Frameworks/R.framework/Resources/bin/R omicsViewer.buildbin-libdir StartedAt: 2024-10-17 16:46:09 -0400 (Thu, 17 Oct 2024) EndedAt: 2024-10-17 16:47:37 -0400 (Thu, 17 Oct 2024) EllapsedTime: 88.5 seconds RetCode: 0 Status: OK PackageFile: omicsViewer_1.8.0.tgz PackageFileSize: 4.364 MiB