Package: omicsViewer Version: 1.8.0 Command: /Library/Frameworks/R.framework/Resources/bin/R CMD build --keep-empty-dirs --no-resave-data omicsViewer StartedAt: 2024-06-09 17:34:42 -0400 (Sun, 09 Jun 2024) EndedAt: 2024-06-09 17:35:36 -0400 (Sun, 09 Jun 2024) EllapsedTime: 53.9 seconds RetCode: 0 Status: OK PackageFile: omicsViewer_1.8.0.tar.gz PackageFileSize: 4.324 MiB