Package: omicsViewer Version: 1.8.0 Command: /home/biocbuild/R/R-beta-2024-04-15_r86425/bin/R CMD check --install=check:omicsViewer.install-out.txt --library=/home/biocbuild/R/R-beta-2024-04-15_r86425/site-library --no-vignettes --timings omicsViewer_1.8.0.tar.gz StartedAt: 2024-05-09 10:12:46 -0000 (Thu, 09 May 2024) EndedAt: 2024-05-09 10:19:23 -0000 (Thu, 09 May 2024) EllapsedTime: 396.8 seconds RetCode: 0 Status: OK CheckDir: omicsViewer.Rcheck Warnings: 0