Package: omicsViewer Version: 1.8.0 Command: /Library/Frameworks/R.framework/Resources/bin/R CMD check --install=check:omicsViewer.install-out.txt --library=/Library/Frameworks/R.framework/Resources/library --no-vignettes --timings omicsViewer_1.8.0.tar.gz StartedAt: 2024-06-11 00:15:46 -0400 (Tue, 11 Jun 2024) EndedAt: 2024-06-11 00:24:15 -0400 (Tue, 11 Jun 2024) EllapsedTime: 508.8 seconds RetCode: 0 Status: OK CheckDir: omicsViewer.Rcheck Warnings: 0