Package: omicsViewer Version: 1.8.0 Command: /Library/Frameworks/R.framework/Resources/bin/R CMD INSTALL omicsViewer StartedAt: 2024-10-16 18:57:14 -0400 (Wed, 16 Oct 2024) EndedAt: 2024-10-16 18:57:53 -0400 (Wed, 16 Oct 2024) EllapsedTime: 38.2 seconds RetCode: 0 Status: OK