Package: omicsViewer Version: 1.8.0 Command: /Library/Frameworks/R.framework/Resources/bin/R CMD check --install=check:omicsViewer.install-out.txt --library=/Library/Frameworks/R.framework/Resources/library --no-vignettes --timings omicsViewer_1.8.0.tar.gz StartedAt: 2024-10-18 06:28:07 -0400 (Fri, 18 Oct 2024) EndedAt: 2024-10-18 06:34:05 -0400 (Fri, 18 Oct 2024) EllapsedTime: 357.8 seconds RetCode: 0 Status: OK CheckDir: omicsViewer.Rcheck Warnings: 0